Workbook

Sheet Matrix
B1: SCL - Risk Assessment Matrix for Football-Related Violence and Disorder on the Stadium Footprint
D3: Reading FC
B4: Away Team: | D4: Leyton Orient
B5: Day/Date (dd/mm/yyyy): | D5: 45920
B6: KO Time (00:00): | D6: 0.625
B8: Risk Factor | D8: Selected Answer | F8: Rationale | M8: Score | N8: Score
B11: Day/Time of fixture | D11: No identified impact | F11: Uusual kick off time | N11: =VLOOKUP(D11,Details2!A2:B4,2,0) -> 0
B13: Significance of fixture | D13: Self-assessed scale - 2 | F13: Early in season but both sides would be looking for a play off position | N13: =VLOOKUP(D13,Details2!A6:B11,2,0) -> 2
B15: History and Rivalry | D15: Self-assessed scale - 2 | F15: RFC fans handed over a wreath at last match away to LOFC fans | N15: =VLOOKUP(D15,Details2!C6:D16,2,0) -> 2
B17: Zone Ex Concerns | D17: Self-assessed scale - 4 | F17: Recent issues between a handful of home risk at 2 previous home games in Green Park | N17: =VLOOKUP(D17,Details2!A6:B11,2,0) -> 4
B21: HOME Attendance | D21: Average | N21: =VLOOKUP(D21,Details2!A18:B22,2,0) -> 0
B23: HOME Risk Supporters LOW | D23: Low (self-assessed scale) - 0 | N23: =VLOOKUP(D23,Details2!A24:B61,2,0) -> 0
B25: MEDIUM | D25: Medium (self-assessed scale) - 4 | F25: Youth element at LOFC fans will travel mostly by train so potential flashpoint post game | N25: =VLOOKUP(D25,Details2!A26:B62,2,0) -> 4
B27: HIGH | D27: High (self-assessed scale) - 0 | N27: =VLOOKUP(D27,Details2!A28:B64,2,0) -> 0
B29: HOME Recent Incidents/General Behaviour | D29: Minor / Anti-social issues | N29: =VLOOKUP(D29,Details2!A63:B67,2,0) -> 6
B31: HOME Lighting of Pyrotechnics | D31: Rarely experienced and not expected | N31: =VLOOKUP(D31,Details2!A69:B72,2,0) -> 0
B33: HOME Throwing Objects/Missiles | D33: Rarely experienced and not expected | N33: =VLOOKUP(D33,Details2!A69:B72,2,0) -> 0
B35: HOME Racism or Other Hate incidents | D35: Rarely experienced and not expected | N35: =VLOOKUP(D35,Details2!A74:B78,2,0) -> 0
B37: HOME Ticket Forgeries or Jibbing | D37: Rarely experienced and not expected | N37: =VLOOKUP(D37,Details2!A80:B86,2,0) -> 0
B39: HOME Pitch invasion | D39: Rarely experienced and not expected | N39: =VLOOKUP(D39,Details2!A88:B92,2,0) -> 0
B41: HOME Blocking vomitories and gangways | D41: Rarely experienced and not expected | N41: =VLOOKUP(D41,Details2!A94:B97,2,0) -> 0
B43: HOME Other risk factors not listed above | D43: Self-assessed scale - 0 | N43: =VLOOKUP(D43,Details2!A99:B109,2,0) -> 0
B46: AWAY Attendance | D46: Average | N46: =VLOOKUP(D46,Details2!C18:D22,2,0) -> 0
B48: AWAY Risk Supporters LOW | D48: Low (self-assessed scale) - 0 | N48: =VLOOKUP(D48,Details2!C24:D29,2,0) -> 0
B50: MEDIUM | D50: Medium (self-assessed scale) - 4 | N50: =VLOOKUP(D50,Details2!C30:D40,2,0) -> 4
B52: HIGH | D52: High (self-assessed scale) - 0 | N52: =VLOOKUP(D52,Details2!C41:D61,2,0) -> 0
B54: AWAY Recent Incidents/General Behaviour | D54: No issues | N54: =VLOOKUP(D54,Details2!C63:D67,2,0) -> 0
B56: AWAY Lighting of Pyrotechnics | D56: Rarely experienced and not expected | N56: =VLOOKUP(D56,Details2!C69:D72,2,0) -> 0
B58: AWAY Throwing Objects/Missiles | D58: Rarely experienced and not expected | N58: =VLOOKUP(D58,Details2!C69:D72,2,0) -> 0
B60: AWAY Racism or Other Hate incidents | D60: Rarely experienced and not expected | N60: =VLOOKUP(D60,Details2!C74:D78,2,0) -> 0
B62: AWAY Ticket Forgeries or Jibbing | D62: Rarely experienced and not expected | N62: =VLOOKUP(D62,Details2!C80:D86,2,0) -> 0
B64: AWAY Pitch invasion | D64: Rarely experienced and not expected | N64: =VLOOKUP(D64,Details2!C88:D92,2,0) -> 0
B66: AWAY Blocking vomitories and gangways | D66: Rarely experienced and not expected | N66: =VLOOKUP(D66,Details2!C94:D97,2,0) -> 0
B68: AWAY Other risk factors not listed above, e.g. vandalism, separation/segregation issues (e.g. away in home), protest | D68: Self-assessed scale - 0 | N68: =VLOOKUP(D68,Details2!C99:D109,2,0) -> 0
B71: Police Engagement Category | D71: TOTAL SCORE | F71: Risk Score | G71: =SUM(N11:N68) -> 22
B72: Police Free | D72: 0-30 | F72: Suggested Category | G72: =IF(G71<=30,"Police Free",(IF(AND(G71>=31,G71<=45),"OFO Only",(IF(AND(G71>=46,G71<=60),"Low",(IF(AND(G71>=61,G71<=80),"Medium",(IF(AND(G71>=80,G71<=150),"High",(IF(G71>99,"High",""))))))))))) -> Police Free
B73: OFO Only | D73: 31-45
B74: LOW Risk Fixture | D74: 46-60
B75: MED Risk Fixture | D75: 61-80
B76: HIGH Risk Fixture | D76: 80+

Sheet Details2
A1: Date/Time of Fixture | B1: Score
A2: Decreased impact | B2: -2
A3: No identified impact | B3: 0
A4: Increased impact | B4: 2
A5: Significance of Fixture and Zone Ex Concerns | B5: Score | C5: History and Rivalry | D5: Score
A6: Self-assessed scale - 0 | B6: 0 | C6: Self-assessed scale - 0 | D6: 0
A7: Self-assessed scale - 1 | B7: 1 | C7: Self-assessed scale - 1 | D7: 1
A8: Self-assessed scale - 2 | B8: 2 | C8: Self-assessed scale - 2 | D8: 2
A9: Self-assessed scale - 3 | B9: 3 | C9: Self-assessed scale - 3 | D9: 3
A10: Self-assessed scale - 4 | B10: 4 | C10: Self-assessed scale - 4 | D10: 4
A11: Self-assessed scale - 5 | B11: 5 | C11: Self-assessed scale - 5 | D11: 5
C12: Self-assessed scale - 6 | D12: 6
C13: Self-assessed scale - 7 | D13: 7
C14: Self-assessed scale - 8 | D14: 8
C15: Self-assessed scale - 9 | D15: 9
C16: Self-assessed scale - 10 | D16: 10
A17: Home Attendance | B17: Score | C17: Away Attendance | D17: Score
A18: Significantly lower than average | B18: -2 | C18: Significantly lower than average | D18: -2
A19: Lower than average | B19: -1 | C19: Lower than average | D19: -1
A20: Average | B20: 0 | C20: Average | D20: 0
A21: Higher than average | B21: 1 | C21: Higher than average - wide segregation | D21: 3
A22: Significantly higher than average | B22: 3 | C22: Significantly higher than average - narrow segregation | D22: 5
A23: Home supporter profile | B23: Score | C23: Away supporter profile | D23: Score
A24: Low (self-assessed scale) - 0 | B24: 0 | C24: Low (self-assessed scale) - 0 | D24: 0
A25: Low (self-assessed scale) - 1 | B25: 1 | C25: Low (self-assessed scale) - 1 | D25: 1
A26: Low (self-assessed scale) - 2 | B26: 2 | C26: Low (self-assessed scale) - 2 | D26: 2
A27: Low (self-assessed scale) - 3 | B27: 3 | C27: Low (self-assessed scale) - 3 | D27: 3
A28: Low (self-assessed scale) - 4 | B28: 4 | C28: Low (self-assessed scale) - 4 | D28: 4
A29: Low (self-assessed scale) - 5 | B29: 5 | C29: Low (self-assessed scale) - 5 | D29: 5
A30: Medium (self-assessed scale) - 0 | B30: 0 | C30: Medium (self-assessed scale) - 0 | D30: 0
A31: Medium (self-assessed scale) - 1 | B31: 1 | C31: Medium (self-assessed scale) - 1 | D31: 1
A32: Medium (self-assessed scale) - 2 | B32: 2 | C32: Medium (self-assessed scale) - 2 | D32: 2
A33: Medium (self-assessed scale) - 3 | B33: 3 | C33: Medium (self-assessed scale) - 3 | D33: 3
A34: Medium (self-assessed scale) - 4 | B34: 4 | C34: Medium (self-assessed scale) - 4 | D34: 4
A35: Medium (self-assessed scale) - 5 | B35: 5 | C35: Medium (self-assessed scale) - 5 | D35: 5
... A61: High (self-assessed scale) - 20 | B61: 20 | C61: High (self-assessed scale) - 20 | D61: 20
A62: Home Supporters General Behaviour | B62: Score | C62: Away Supporters General Behaviour | D62: Score
A63: No issues | B63: 0 | C63: No issues | D63: 0
A64: Isolated issues | B64: 4 | C64: Isolated issues | D64: 4
A65: Minor / Anti-social issues | B65: 6 | C65: Minor / Anti-social issues | D65: 6
A66: Recent incidents of disorder | B66: 8 | C66: Recent incidents of disorder | D66: 8
A67: Recent incidents of serious disorder | B67: 10 | C67: Recent incidents of serious disorder | D67: 10
A68: Home Lighting of Pyrotechnics/Throwing Objects | B68: Score | C68: Away Lighting of Pyrotechnics/Throwing Objects | D68: Score
A69: Rarely experienced and not expected | B69: 0 | C69: Rarely experienced and not expected | D69: 0
A70: Low Risk - one/two possible | B70: 3 | C70: Low Risk - one/two possible | D70: 3
A71: Medium Risk - two/six at the same time in the same location possible | B71: 4 | C71: Medium Risk - two/six at the same time in the same location possible | D71: 4
A72: High Risk - more than six at the same time in the same location possible | B72: 6 | C72: High Risk - more than six at the same time in the same location possible | D72: 6
A73: Home Racism or Other Hate Incidents | B73: Score | C73: Away Racism or Other Hate Incidents | D73: Score
A74: Rarely experienced and not expected | B74: 0 | C74: Rarely experienced and not expected | D74: 0
A75: Isolated hate comment by one person possible | B75: 3 | C75: Isolated hate comment by one person possible | D75: 3
A76: Hate comment(s) which offend(s) others but not overheard by the target group possible | B76: 4 | C76: Hate comment(s) which offend(s) others but not overheard by the target group possible | D76: 4
A77: Hate comment(s) causing substantial distress to a target individual possible | B77: 5 | C77: Hate comment(s) causing substantial distress to a target individual possible | D77: 5
A78: Hate comment(s) causing substantial distress to a target group possible | B78: 6 | C78: Hate comment(s) causing substantial distress to a target group possible | D78: 6
A79: Home Ticket Forgeries or Jibbing | B79: Score | C79: Away Ticket Forgeries or Jibbing | D79: Score
A80: Rarely experienced and not expected | B80: 0 | C80: Rarely experienced and not expected | D80: 0
A81: Possibly one or two people involved over Phase 1 | B81: 1 | C81: Possibly one or two people involved over Phase 1 | D81: 1
A82: Possibly two to ten people involved over Phase 1 | B82: 2 | C82: Possibly two to ten people involved over Phase 1 | D82: 2
A83: Possibly 10 to 20 people involved over Phase 1 | B83: 3 | C83: Possibly 10 to 20 people involved over Phase 1 | D83: 3
A84: Expect 20 to 50 people involved over Phase 1 | B84: 4 | C84: Expect 20 to 50 people involved over Phase 1 | D84: 4
A85: Possibly 50-100 people involved over Phase 1 | B85: 5 | C85: Possibly 50-100 people involved over Phase 1 | D85: 5
A86: Possibly more than 100 people involved over Phase 1 | B86: 6 | C86: Possibly more than 100 people involved over Phase 1 | D86: 6
A87: Home Pitch Invasion | B87: Score | C87: Away Pitch Invasion | D87: Score
A88: Rarely experienced and not expected | B88: 0 | C88: Rarely experienced and not expected | D88: 0
A89: One/two celebratory pitch invaders possible | B89: 3 | C89: One/two celebratory pitch invaders possible | D89: 3
A90: More than two celebratory pitch invaders possible | B90: 4 | C90: More than two celebratory pitch invaders possible | D90: 4
A91: One/two hostile pitch invaders possible | B91: 5 | C91: One/two hostile pitch invaders possible | D91: 5
A92: More than two hostile pitch invaders possible | B92: 6 | C92: More than two hostile pitch invaders possible | D92: 6
A93: Home Blocking Vomitories and Gangways | B93: Score | C93: Away Blocking Vomitories and Gangways | D93: Score
A94: Rarely experienced and not expected | B94: 0 | C94: Rarely experienced and not expected | D94: 0
A95: Some blocking possible but cooperation with stewards | B95: 1 | C95: Some blocking possible but cooperation with stewards | D95: 1
A96: Substantial blocking possible but cooperation with stewards | B96: 2 | C96: Substantial blocking possible but cooperation with stewards | D96: 2
A97: Substantial blocking possible with opposition to stewards | B97: 4 | C97: Substantial blocking possible with opposition to stewards | D97: 4
A98: Home Other | B98: Score | C98: Away Other | D98: Score
A99: Self-assessed scale - 0 | B99: 0 | C99: Self-assessed scale - 0 | D99: 0
A100: Self-assessed scale - 1 | B100: 1 | C100: Self-assessed scale - 1 | D100: 1
A101: Self-assessed scale - 2 | B101: 2 | C101: Self-assessed scale - 2 | D101: 2
A102: Self-assessed scale - 3 | B102: 3 | C102: Self-assessed scale - 3 | D102: 3
A103: Self-assessed scale - 4 | B103: 4 | C103: Self-assessed scale - 4 | D103: 4
A104: Self-assessed scale - 5 | B104: 5 | C104: Self-assessed scale - 5 | D104: 5
A105: Self-assessed scale - 6 | B105: 6 | C105: Self-assessed scale - 6 | D105: 6
A106: Self-assessed scale - 7 | B106: 7 | C106: Self-assessed scale - 7 | D106: 7
A107: Self-assessed scale - 8 | B107: 8 | C107: Self-assessed scale - 8 | D107: 8
A108: Self-assessed scale - 9 | B108: 9 | C108: Self-assessed scale - 9 | D108: 9
A109: Self-assessed scale - 10 | B109: 10 | C109: Self-assessed scale - 10 | D109: 10

Sheet Risk Supporter Defintions
A1: LOW Risk Supporter: There is current intelligence or information that the supporter may engage in disorderly, anti-social or criminal behaviours, often influenced by alcohol and/or drug use. The number of supporters expected to fit this category and their likely behaviour should be combined to provide a score between 0 and 5. The comments section can be used to provide further detail. Consider the impact these fans are expected to have on the policing operation in the context of the Gold Strategy.
A2: MEDIUM Risk Supporter: There is current intelligence or information that the supporter is likely to engage in criminal behaviours that may involve violence or more serious offences. The number of supporters expected to fit this category and their likely behaviour should be combined to provide a score between 0 and 10. The comments section can be used to detail the criminal behaviours expected. Consider the impact these fans are expected to have on the policing operation in the context of the Gold Strategy.
A3: HIGH Risk Supporter: There is current intelligence or information that the supporter intends to engage in criminal behaviours, actively seeking and initiating violent confrontations or influence others to do so. The number of supporters expected to fit this category and their likely behaviour should be combined to provide a score between 0 and 20. The comments section can be used to detail the nature of supporters’ intentions. Further explanation of how they will seek or initiate violent confrontations should be provided. Consider the impact these fans are expected to have on the policing operation in the context of the Gold Strategy. Supporter categories are not fixed and are likely to change from fixture to fixture. Different scoring bands are used for each definition to reflect the potential impact on the policing operation. The numbers of Risk supporters attending a fixture and their expected behaviour is likely to have a significant impact on the planning phase of any football fixture and careful consideration should be given to accurately scoring these categories. The away DFO assessment should be used to assist in completing the Away Supporter Profile. Any questions, concerns or queries should be directed to them to assist in accurately completing the risk assessment.
